BEGIN:VCALENDAR
VERSION:2.0
CALSCALE:GREGORIAN
METHOD:PUBLISH
X-WR-TIMEZONE:Australia/Sydney
BEGIN:VTIMEZONE
TZID:Australia/Sydney
BEGIN:STANDARD
TZNAME:AEST
END:STANDARD
END:VTIMEZONE
BEGIN:VEVENT
DTSTART;TZID=Australia/Sydney:20260518T090000
DTEND;TZID=Australia/Sydney:20260518T153000
RRULE:FREQ=WEEKLY;UNTIL=20260522T153000;BYDAY=MO,TU,WE,TH,FR
DTSTAMP:20260425T015241
UID:1100
SUMMARY:School Dental Incentive (Smile Squad)
DESCRIPTION:
SEQUENCE:0
STATUS:CONFIRMED
TRANSP:OPAQUE
END:VEVENT
END:VCALENDAR